BEGIN:VCALENDAR
VERSION:2.0
PRODID:-//wp-events-plugin.com//7.2.3.1//EN
BEGIN:VEVENT
UID:28@cms.carreratreff.de
DTSTART;TZID=Europe/Berlin:20240821T083000
DTEND;TZID=Europe/Berlin:20240821T170000
DTSTAMP:20240616T051341Z
URL:https://cms.carreratreff.de/events/fahrspass-und-fahrsicherheit-am-21-
 august/
SUMMARY:Fahrspaß und Fahrsicherheit am 21. August
DESCRIPTION:Fahrsicherheitszentrum Leipzig-HalleLiebe CarreraTreff-Freunde\
 ,\n\nChristian hat es schon angeteasert\, hier kommt die Info nun sozusage
 n "offiziell". Ich mache mit Euch ein Fahrsicherheitstraining (Pkw-Intensi
 v-Training)\, wenn Ihr wollt. Die Location ist das Fahrsicherheitszentrum 
 Leipzig-Halle\, Döbichauer Str. 30\, 04435 Schkeuditz\, der Termin ist de
 r 21.8. Los geht es um 9:00 Uhr. Damit wir die Gruppe "für uns" haben\, m
 üssen wir bis zum 30.06.2024 mindestens 8 Teilnehmer*innen zusammenbekomm
 en (und höchstens 12) - aber das schaffen wir doch entspannt\, oder?\nPla
 n B wäre ein Ladies' Training\, falls die Herren finden\, sie können das
  alles schon. (Euch entgeht ne Menge Spaß\, ich sag's nur \;) )  Oder be
 ides gleichzeitig - wir können bis zu 36 Fahrzeuge auf dem Platz bespaße
 n (da supporten mich meine Trainerkollegen). Also\, wer will? Wenn wir uns
 ere Gruppe (mindestens 8 Teilnehmer) voll kriegen\, habe ich auch etwas me
 hr Spielraum bei den Fahraufgaben\, die wir machen können.\n\nKosten wird
  das Ganze 195 Euro. Da kommt ggf. das Mittagessen dazu\, man kann bei ein
 em "indischen Graeco-Italiener" (lies: Imbiss) bestellen (oder sich auch e
 infach selber was mitbringen). Kaffee\, Schokoriegel und Kaltgetränke gib
 t es auch. Wenn wir bis 30.06. die 10 TN für eine geschlossene Gruppe zus
 ammenbekommen\, spendier ich den Kaffee und Kuchen.\n\nAlso dann: flink in
  die Tasten gehauen – für Fahrspaß mit Sicherheit :D\n\nEure Bianca
ATTACH;FMTTYPE=image/jpeg:https://cms.carreratreff.de/wp-content/uploads/2
 023/11/cropped-carreratreff.jpg
CATEGORIES:CarreraTreff
LOCATION:Fahrsicherheitszentrum Leipzig-Halle\, Döbichauer Str. 30\, Schke
 uditz\, Deutschland
X-APPLE-STRUCTURED-LOCATION;VALUE=URI;X-ADDRESS=Döbichauer Str. 30\, Schke
 uditz\, Deutschland;X-APPLE-RADIUS=100;X-TITLE=Fahrsicherheitszentrum Leip
 zig-Halle:geo:0,0
END:VEVENT
BEGIN:VTIMEZONE
TZID:Europe/Berlin
X-LIC-LOCATION:Europe/Berlin
BEGIN:DAYLIGHT
DTSTART:20240331T030000
TZOFFSETFROM:+0100
TZOFFSETTO:+0200
TZNAME:CEST
END:DAYLIGHT
END:VTIMEZONE
END:VCALENDAR